BEGIN:VCALENDAR
VERSION:2.0
PRODID:-//Midwest Ohio - ECPv6.15.20//NONSGML v1.0//EN
CALSCALE:GREGORIAN
METHOD:PUBLISH
X-WR-CALNAME:Midwest Ohio
X-ORIGINAL-URL:https://midwestohio.cisvusa.org
X-WR-CALDESC:Events for Midwest Ohio
REFRESH-INTERVAL;VALUE=DURATION:PT1H
X-Robots-Tag:noindex
X-PUBLISHED-TTL:PT1H
BEGIN:VTIMEZONE
TZID:America/New_York
BEGIN:DAYLIGHT
TZOFFSETFROM:-0500
TZOFFSETTO:-0400
TZNAME:EDT
DTSTART:20240310T070000
END:DAYLIGHT
BEGIN:STANDARD
TZOFFSETFROM:-0400
TZOFFSETTO:-0500
TZNAME:EST
DTSTART:20241103T060000
END:STANDARD
BEGIN:DAYLIGHT
TZOFFSETFROM:-0500
TZOFFSETTO:-0400
TZNAME:EDT
DTSTART:20250309T070000
END:DAYLIGHT
BEGIN:STANDARD
TZOFFSETFROM:-0400
TZOFFSETTO:-0500
TZNAME:EST
DTSTART:20251102T060000
END:STANDARD
BEGIN:DAYLIGHT
TZOFFSETFROM:-0500
TZOFFSETTO:-0400
TZNAME:EDT
DTSTART:20260308T070000
END:DAYLIGHT
BEGIN:STANDARD
TZOFFSETFROM:-0400
TZOFFSETTO:-0500
TZNAME:EST
DTSTART:20261101T060000
END:STANDARD
BEGIN:DAYLIGHT
TZOFFSETFROM:-0500
TZOFFSETTO:-0400
TZNAME:EDT
DTSTART:20270314T070000
END:DAYLIGHT
BEGIN:STANDARD
TZOFFSETFROM:-0400
TZOFFSETTO:-0500
TZNAME:EST
DTSTART:20271107T060000
END:STANDARD
END:VTIMEZONE
BEGIN:VEVENT
DTSTART;VALUE=DATE:20251202
DTEND;VALUE=DATE:20251203
DTSTAMP:20260423T085745
CREATED:20251108T221342Z
LAST-MODIFIED:20251108T221937Z
UID:10000049-1764633600-1764719999@midwestohio.cisvusa.org
SUMMARY:Giving Tuesday - A Day of Radical Generosity
DESCRIPTION:Join us in creating change toward peace! \n\n\nOn December 2nd\, the world will come together for a day of radical giving known as Giving Tuesday. At Children’s International Summer Villages – Midwest Ohio Chapter\, we know that change starts with people like you. People who have personally experienced or sent their child(ren) to a program like Village\, Youth Meeting\, Step Up\, Fortnight\, Seminar\, and mini-camp.. People who have served as Planners\, Leaders\, Staff\, Junior Counselors\, givers\, and doers for these programs. People who have gained life-long leadership skills from serving on our Junior Branch Leadership Board. People who have engaged in Mosaic\, National Service Projects\, and local service initiatives. People who have volunteered countless hours for an organization they believe provides our community’s youth with the knowledge\, skills\, attitudes\, values\, and belief of a grand concept far greater than themselves. People who are the catalysts of change toward peace! People like YOU! \n\n\nEvery act of kindness\, every dollar\, and every moment of your time brings us closer to achieving our mission of educating and inspiring action for a more just and peaceful world. Together\, let’s transform the world into active global citizens. Together\, we can create a brighter\, more compassionate\, and peaceful world for all. Together\, we will create lasting friendships\, in line with the founding belief that peace is possible through friendship and mutual understanding. \n\nHow you can help power our mission:1. Give: Join the Giving Tuesday movement on December 2nd\, and reimagine a world built upon shared humanity and generosity. Every dollar counts toward our ambitious $5\,000 goal! No gift is too big. No gift is too small. All Giving Tuesday gifts will be earmarked for our 2026 National Chapter Support Fees\, International Membership Fees\, and National Junior Branch Dues which will total $6\,819. In the past\, these costs were passed on to our delegates\, and we would like to end that process.\n2. Ask: Ask your employer if they will match your generosity.\n3. Share: Share our Giving Tuesday campaign with your friends\, family\, and on social media. Your advocacy can amplify our impact.\n4. Volunteer: Your time and skills can make an impact too. We have all sorts of volunteer opportunities for you\, your family\, and your children. Email us at midwestohio@cisvusa.org to learn more!\nThank you for supporting our mission. Your support is invaluable!\n\n\nDonate here
URL:https://midwestohio.cisvusa.org/event/giving-tuesday-a-day-of-radical-generosity/
LOCATION:OH
ATTACH;FMTTYPE=image/jpeg:https://midwestohio.cisvusa.org/wp-content/uploads/sites/21/2025/11/Giving-Tuesday.jpg
END:VEVENT
BEGIN:VEVENT
DTSTART;TZID=America/New_York:20251206T140000
DTEND;TZID=America/New_York:20251206T160000
DTSTAMP:20260423T085745
CREATED:20251108T222637Z
LAST-MODIFIED:20251108T225649Z
UID:10000050-1765029600-1765036800@midwestohio.cisvusa.org
SUMMARY:Holidays Around the World
DESCRIPTION:Join us at Moeller Brew Barn’s Party Room as we learn about and celebrate different winter holiday customs and cultural traditions. Enjoy delicious samples of holiday foods from around the world too!\n\nHave you participated as one of our CISV Midwest Ohio delegates who represented the United States of America? Do you have a special family holiday tradition or food you want to share? Do you want to learn about a tradition different than your own?\n\nThis is a free event and the public is welcome to attend! Spread the word and bring your friends. After the event\, be sure to patronize Moeller Brew Barn for allowing us to use their facility.
URL:https://midwestohio.cisvusa.org/event/holidays-around-the-world-3/
LOCATION:Moeller Brew Barn\, 8016 Marion Dr\, Maria Stein\, OH\, 45860\, United States
ATTACH;FMTTYPE=image/png:https://midwestohio.cisvusa.org/wp-content/uploads/sites/21/2025/11/Holidays-Around-the-World-featured-image.png
END:VEVENT
BEGIN:VEVENT
DTSTART;TZID=America/New_York:20260119T090000
DTEND;TZID=America/New_York:20260119T170000
DTSTAMP:20260423T085745
CREATED:20251108T232114Z
LAST-MODIFIED:20251109T025227Z
UID:10000052-1768813200-1768842000@midwestohio.cisvusa.org
SUMMARY:8 Hours of Peace
DESCRIPTION:In conjunction with Martin Luther King Jr. Day\, join us for 8 Hours of Peace as we engage in fun activities that promote peace\, understanding\, and knowledge. All through a hands-on UNESCO-approved curriculum focused on diversity\, human rights\, conflict & resolution\, and sustainable development.\nFind out what our local\, regional\, national\, and international peace education programming can look like.\n\nPlease join us for 8 Hours of Peace at Pioneer Electric Cooperative’s Community Room for a day of CISV activities. Bring your friends\, or come and make new ones! Event is intended for and appropriate for youth ages 7-18 years old. New members and non-members always welcome!\n\nParents are welcome to stay\, but event is intended as a drop-off scenario. All adult chaperones are CISV Child Safeguarding trained with complete background checks and a 1:6 child to adult ratio will be maintained all day. Lunch (11am)\, dinner (4pm)\, snacks\, and beverages will be provided.\n\nAfter registering\, you can pay for 8 Hours of Peace here: 8 Hours of Peace payment
URL:https://midwestohio.cisvusa.org/event/8-hours-of-peace-2/
LOCATION:Pioneer Electric Cooperative\, 510 E. US 36\, Piqua\, OH\, 45356\, United States
ATTACH;FMTTYPE=image/png:https://midwestohio.cisvusa.org/wp-content/uploads/sites/21/2025/11/8-Hours-of-Peace-featured-image.png
ORGANIZER;CN="CISV Midwest Ohio Junior Branch":MAILTO:midwestohiojb@gmail.com
END:VEVENT
BEGIN:VEVENT
DTSTART;TZID=America/New_York:20260228T100000
DTEND;TZID=America/New_York:20260301T170000
DTSTAMP:20260423T085745
CREATED:20251108T234421Z
LAST-MODIFIED:20260207T173802Z
UID:10000053-1772272800-1772384400@midwestohio.cisvusa.org
SUMMARY:Local OHIO Mini-Camp
DESCRIPTION:CISV Midwest Ohio Chapter Junior Branch Board members have planned a fun and engaging Local OHIO Mini Camp with activities focused on CISV’s four peace education content areas. All Ohio CISV chapters (Cincinnati\, Columbus\, and Midwest Ohio) are invited to attend.\n\nREGISTER HERE\n\n-CAMP DATES:Saturday\, February 28 – Sunday\, March 1\, 2026.Arrival: 10:00am Saturday.Departure: 5:00pm Sunday.\n\n-CAMP LOCATION/MEETING SPACE:Schiewetz Leadership Training Center6444 Frederick PikeDayton\, OH 45414\n\n-MEALS & SNACKS PROVIDED AT CAMP:Please eat breakfast prior to arrival on Saturday!Saturday Lunch\, 12:00pmSaturday Afternoon Snack\, 3:00pmSaturday Dinner\, 6:00pmSaturday Evening Snack\, 9:00pmSunday Breakfast\, 9:00amSunday Lunch\, 12:00pmSunday Afternoon Snack\, 3:00pmSunday Dinner will not be provided. Plan accordingly.\n\n-COSTS:Youth Campers (youth ages 10+)$115 Early Registration (by 1/31 at 11:55pm).$125 Regular Registration (by 2/14 at 11:55pm).$100 No Shirt Registration (anything after 2/14).\nDay Campers (youth ages 7-9)$30 Early Registration (by 1/31 at 11:55pm)$40 Regular Registration (by 2/14 at 11:55pm)$10 No Shirt Registration (anything after 2/14)\n\n-Chaperones$25 Regular Registration (by 2/14 at 11:55pm)$1 No Shirt Registration (use promo code to waive fee)\n***DUE TO PRINTING LEAD TIMES\, REGISTRATIONS AFTER SATURDAY\, FEBRUARY 14TH WILL NOT RECEIVE A T-SHIRT***\n\n-ITEMS TO BRING:Reusable drinking vessel (sustainability is a must!)Bed linens (pillow\, sheets\, blanket\, and/or sleeping bag)Toiletries/Shower Supplies (deodorant\, tootbrush\, toothpaste\, mouthwash\, deodorant\, shampoo\, conditioner\, detangler\, brush\, comb\, hair goop\, deodorant\, bath wash\, towel\, wash cloth\, vision care\, fem care\, dental care\, deodorant…you get the picture!)Clean change of clothesSnuggly pajamasWinterwear (parka\, jacket\, coat\, hat\, gloves\, scarf…we WILL be outside\, so pack accordingly!)FriendsOpen mind\n\n-WHAT NOT TO BRING:Bad attitudeCell phone\, smartwatch\, tablet\, etc. (these will be collected by the chaperones to allow undistracted interactions with each other)
URL:https://midwestohio.cisvusa.org/event/local-ohio-mini-camp-3-2/
LOCATION:Schiewetz Leadership Training Center\, 6444 Frederick Pike\, Dayton\, OH\, 45414\, United States
ATTACH;FMTTYPE=image/png:https://midwestohio.cisvusa.org/wp-content/uploads/sites/21/2025/11/Local-OHIO-Mini-Camp-1.png
ORGANIZER;CN="CISV Midwest Ohio Junior Branch":MAILTO:midwestohiojb@gmail.com
END:VEVENT
BEGIN:VEVENT
DTSTART;TZID=America/New_York:20260302T183000
DTEND;TZID=America/New_York:20260302T200000
DTSTAMP:20260423T085745
CREATED:20251108T235235Z
LAST-MODIFIED:20260225T225433Z
UID:10000054-1772476200-1772481600@midwestohio.cisvusa.org
SUMMARY:Family Chapter Meeting - CANCELLED
DESCRIPTION:THE MARCH CHAPTER MEETING HAS BEEN CANCELLED. WE’LL SEE YOU ON APRIL 6TH FOR OUR NEXT MONTHLY CHAPTER MEETING.\n\nCISV chapter meetings are where laughter fills the room and friendships bloom across all ages\, creating a vibrant community where everyone from 7 to 107 can find their place! Picture energetic icebreaker games that get everyone giggling\, collaborative art projects where different generations share creative ideas\, and experience CISV’s four areas of content. The magic happens when younger members team up with older participants for scavenger hunts\, storytelling circles\, or friendly competition in international games that spark joy and connection. The infectious energy comes from knowing that everyone belongs\, everyone contributes\, and everyone leaves with new friends and unforgettable memories. At CISV\, fun isn’t just an add-on – it’s the heart of how lasting friendships are formed and how people of all ages discover the joy of being part of a truly inclusive community\, learning to be global citizens.\n\nHaving multiple inclusive friend groups creates a rich tapestry of belonging that strengthens young people in profound ways. When youth connect with diverse circles – perhaps teammates from sports\, classmates in drama club\, neighbors in their community\, or peers who share their cultural background – they develop a more complete sense of identity and resilience. Each group offers unique perspectives\, experiences\, and forms of support\, preventing the isolation that can happen when someone feels like they don’t quite fit into just one social circle. These varied friendships teach empathy\, cultural awareness\, and social flexibility while providing multiple safety nets during challenging times. Young people who belong to several welcoming communities learn that there are many ways to be valued and accepted\, discover different aspects of their own personality\, and develop the confidence that comes from knowing they have places where they truly belong. This network of inclusive relationships not only enriches their current experience but builds the social skills and open-mindedness that will serve them throughout their lives\, creating a foundation for meaningful connections across all the communities they’ll encounter as they grow.\n\nCISV creates a uniquely welcoming community across the USA where young people from all backgrounds\, cultures\, and experiences come together to build meaningful friendships that celebrate diversity and promote understanding. Through local chapters in cities nationwide\, youth find a safe and inclusive space where they belong\, develop leadership skills\, and connect with peers who share their passion for making the world more peaceful and connected. This supportive network empowers American youth to become global citizens while staying rooted in their local communities\, fostering both personal growth and lifelong friendships that span cultures and continents.
URL:https://midwestohio.cisvusa.org/event/family-chapter-meeting-3/
LOCATION:Troy-Hayner Cultural Center – Cotner-Hayner Annex\, 22 N Short Street\, Troy\, OH\, 45373\, United States
ATTACH;FMTTYPE=image/png:https://midwestohio.cisvusa.org/wp-content/uploads/sites/21/2025/11/Family-Chapter-Meeting.png
ORGANIZER;CN="CISV Midwest Ohio Junior Branch":MAILTO:midwestohiojb@gmail.com
END:VEVENT
BEGIN:VEVENT
DTSTART;TZID=America/New_York:20260406T183000
DTEND;TZID=America/New_York:20260406T200000
DTSTAMP:20260423T085745
CREATED:20260225T225741Z
LAST-MODIFIED:20260225T225741Z
UID:10000055-1775500200-1775505600@midwestohio.cisvusa.org
SUMMARY:Family Chapter Meeting
DESCRIPTION:CISV chapter meetings are where laughter fills the room and friendships bloom across all ages\, creating a vibrant community where everyone from 7 to 107 can find their place! Picture energetic icebreaker games that get everyone giggling\, collaborative art projects where different generations share creative ideas\, and experience CISV’s four areas of content. The magic happens when younger members team up with older participants for scavenger hunts\, storytelling circles\, or friendly competition in international games that spark joy and connection. The infectious energy comes from knowing that everyone belongs\, everyone contributes\, and everyone leaves with new friends and unforgettable memories. At CISV\, fun isn’t just an add-on – it’s the heart of how lasting friendships are formed and how people of all ages discover the joy of being part of a truly inclusive community\, learning to be global citizens.\n\nHaving multiple inclusive friend groups creates a rich tapestry of belonging that strengthens young people in profound ways. When youth connect with diverse circles – perhaps teammates from sports\, classmates in drama club\, neighbors in their community\, or peers who share their cultural background – they develop a more complete sense of identity and resilience. Each group offers unique perspectives\, experiences\, and forms of support\, preventing the isolation that can happen when someone feels like they don’t quite fit into just one social circle. These varied friendships teach empathy\, cultural awareness\, and social flexibility while providing multiple safety nets during challenging times. Young people who belong to several welcoming communities learn that there are many ways to be valued and accepted\, discover different aspects of their own personality\, and develop the confidence that comes from knowing they have places where they truly belong. This network of inclusive relationships not only enriches their current experience but builds the social skills and open-mindedness that will serve them throughout their lives\, creating a foundation for meaningful connections across all the communities they’ll encounter as they grow.\n\nCISV creates a uniquely welcoming community across the USA where young people from all backgrounds\, cultures\, and experiences come together to build meaningful friendships that celebrate diversity and promote understanding. Through local chapters in cities nationwide\, youth find a safe and inclusive space where they belong\, develop leadership skills\, and connect with peers who share their passion for making the world more peaceful and connected. This supportive network empowers American youth to become global citizens while staying rooted in their local communities\, fostering both personal growth and lifelong friendships that span cultures and continents.
URL:https://midwestohio.cisvusa.org/event/family-chapter-meeting-2/
LOCATION:Troy-Hayner Cultural Center – Cotner-Hayner Annex\, 22 N Short Street\, Troy\, OH\, 45373\, United States
ATTACH;FMTTYPE=image/png:https://midwestohio.cisvusa.org/wp-content/uploads/sites/21/2025/11/Family-Chapter-Meeting.png
ORGANIZER;CN="CISV Midwest Ohio Junior Branch":MAILTO:midwestohiojb@gmail.com
END:VEVENT
END:VCALENDAR