BEGIN:VCALENDAR
VERSION:2.0
PRODID:-//Midwest Ohio - ECPv6.15.20//NONSGML v1.0//EN
CALSCALE:GREGORIAN
METHOD:PUBLISH
X-WR-CALNAME:Midwest Ohio
X-ORIGINAL-URL:https://midwestohio.cisvusa.org
X-WR-CALDESC:Events for Midwest Ohio
REFRESH-INTERVAL;VALUE=DURATION:PT1H
X-Robots-Tag:noindex
X-PUBLISHED-TTL:PT1H
BEGIN:VTIMEZONE
TZID:America/New_York
BEGIN:DAYLIGHT
TZOFFSETFROM:-0500
TZOFFSETTO:-0400
TZNAME:EDT
DTSTART:20190310T070000
END:DAYLIGHT
BEGIN:STANDARD
TZOFFSETFROM:-0400
TZOFFSETTO:-0500
TZNAME:EST
DTSTART:20191103T060000
END:STANDARD
BEGIN:DAYLIGHT
TZOFFSETFROM:-0500
TZOFFSETTO:-0400
TZNAME:EDT
DTSTART:20200308T070000
END:DAYLIGHT
BEGIN:STANDARD
TZOFFSETFROM:-0400
TZOFFSETTO:-0500
TZNAME:EST
DTSTART:20201101T060000
END:STANDARD
BEGIN:DAYLIGHT
TZOFFSETFROM:-0500
TZOFFSETTO:-0400
TZNAME:EDT
DTSTART:20210314T070000
END:DAYLIGHT
BEGIN:STANDARD
TZOFFSETFROM:-0400
TZOFFSETTO:-0500
TZNAME:EST
DTSTART:20211107T060000
END:STANDARD
BEGIN:DAYLIGHT
TZOFFSETFROM:-0500
TZOFFSETTO:-0400
TZNAME:EDT
DTSTART:20220313T070000
END:DAYLIGHT
BEGIN:STANDARD
TZOFFSETFROM:-0400
TZOFFSETTO:-0500
TZNAME:EST
DTSTART:20221106T060000
END:STANDARD
BEGIN:DAYLIGHT
TZOFFSETFROM:-0500
TZOFFSETTO:-0400
TZNAME:EDT
DTSTART:20230312T070000
END:DAYLIGHT
BEGIN:STANDARD
TZOFFSETFROM:-0400
TZOFFSETTO:-0500
TZNAME:EST
DTSTART:20231105T060000
END:STANDARD
BEGIN:DAYLIGHT
TZOFFSETFROM:-0500
TZOFFSETTO:-0400
TZNAME:EDT
DTSTART:20240310T070000
END:DAYLIGHT
BEGIN:STANDARD
TZOFFSETFROM:-0400
TZOFFSETTO:-0500
TZNAME:EST
DTSTART:20241103T060000
END:STANDARD
BEGIN:DAYLIGHT
TZOFFSETFROM:-0500
TZOFFSETTO:-0400
TZNAME:EDT
DTSTART:20250309T070000
END:DAYLIGHT
BEGIN:STANDARD
TZOFFSETFROM:-0400
TZOFFSETTO:-0500
TZNAME:EST
DTSTART:20251102T060000
END:STANDARD
BEGIN:DAYLIGHT
TZOFFSETFROM:-0500
TZOFFSETTO:-0400
TZNAME:EDT
DTSTART:20260308T070000
END:DAYLIGHT
BEGIN:STANDARD
TZOFFSETFROM:-0400
TZOFFSETTO:-0500
TZNAME:EST
DTSTART:20261101T060000
END:STANDARD
END:VTIMEZONE
BEGIN:VEVENT
DTSTART;TZID=America/New_York:20250407T183000
DTEND;TZID=America/New_York:20250407T200000
DTSTAMP:20260420T224517
CREATED:20241109T164231Z
LAST-MODIFIED:20241109T170240Z
UID:10000044-1744050600-1744056000@midwestohio.cisvusa.org
SUMMARY:April Chapter Meeting
DESCRIPTION:
URL:https://midwestohio.cisvusa.org/event/april-chapter-meeting/
LOCATION:Troy-Hayner Cultural Center – Cotner-Hayner Annex\, 22 N Short Street\, Troy\, OH\, 45373\, United States
ATTACH;FMTTYPE=image/png:https://midwestohio.cisvusa.org/wp-content/uploads/sites/21/2019/08/MidwestOhio_Picture_COL.png
ORGANIZER;CN="CISV Midwest Ohio Junior Branch":MAILTO:midwestohiojb@gmail.com
END:VEVENT
BEGIN:VEVENT
DTSTART;TZID=America/New_York:20250303T183000
DTEND;TZID=America/New_York:20250303T200000
DTSTAMP:20260420T224517
CREATED:20241109T164034Z
LAST-MODIFIED:20241109T170008Z
UID:10000043-1741026600-1741032000@midwestohio.cisvusa.org
SUMMARY:March Chapter Meeting
DESCRIPTION:
URL:https://midwestohio.cisvusa.org/event/march-chapter-meeting/
LOCATION:Troy-Hayner Cultural Center – Cotner-Hayner Annex\, 22 N Short Street\, Troy\, OH\, 45373\, United States
ATTACH;FMTTYPE=image/png:https://midwestohio.cisvusa.org/wp-content/uploads/sites/21/2019/08/MidwestOhio_Picture_COL.png
ORGANIZER;CN="CISV Midwest Ohio Junior Branch":MAILTO:midwestohiojb@gmail.com
END:VEVENT
BEGIN:VEVENT
DTSTART;TZID=America/New_York:20250216T080000
DTEND;TZID=America/New_York:20250217T170000
DTSTAMP:20260420T224517
CREATED:20241109T163847Z
LAST-MODIFIED:20241120T005309Z
UID:10000042-1739692800-1739811600@midwestohio.cisvusa.org
SUMMARY:Local OHIO Mini Camp
DESCRIPTION:Details coming soon.
URL:https://midwestohio.cisvusa.org/event/local-ohio-mini-camp-2/
LOCATION:OH
ATTACH;FMTTYPE=image/jpeg:https://midwestohio.cisvusa.org/wp-content/uploads/sites/21/2018/02/Clouds4.jpg
END:VEVENT
BEGIN:VEVENT
DTSTART;VALUE=DATE:20250120
DTEND;VALUE=DATE:20250121
DTSTAMP:20260420T224517
CREATED:20241109T163549Z
LAST-MODIFIED:20241109T163549Z
UID:10000041-1737331200-1737417599@midwestohio.cisvusa.org
SUMMARY:Summer 2025 Delegate & Leader applicant Observations during 8 Hours of Peace
DESCRIPTION:
URL:https://midwestohio.cisvusa.org/event/summer-2025-delegate-leader-applicant-observations-during-8-hours-of-peace/
LOCATION:OH
END:VEVENT
BEGIN:VEVENT
DTSTART;VALUE=DATE:20250120
DTEND;VALUE=DATE:20250121
DTSTAMP:20260420T224517
CREATED:20241109T163419Z
LAST-MODIFIED:20241120T005033Z
UID:10000040-1737331200-1737417599@midwestohio.cisvusa.org
SUMMARY:8 Hours of Peace
DESCRIPTION:
URL:https://midwestohio.cisvusa.org/event/8-hours-of-peace/
LOCATION:OH
ATTACH;FMTTYPE=image/jpeg:https://midwestohio.cisvusa.org/wp-content/uploads/sites/21/2024/11/360_F_984897734_jVMpXRwu9eIJxLHriRacj3G5OLV99LEy.jpg
END:VEVENT
BEGIN:VEVENT
DTSTART;TZID=America/New_York:20250106T183000
DTEND;TZID=America/New_York:20250106T200000
DTSTAMP:20260420T224517
CREATED:20241020T232056Z
LAST-MODIFIED:20241109T170057Z
UID:10000033-1736188200-1736193600@midwestohio.cisvusa.org
SUMMARY:January Chapter Meeting
DESCRIPTION:Location: Hayner Annex \n22 North Short St. Troy Ohio\, 45373
URL:https://midwestohio.cisvusa.org/event/january-chapter-meeting/
LOCATION:Troy-Hayner Cultural Center – Cotner-Hayner Annex\, 22 N Short Street\, Troy\, OH\, 45373\, United States
ATTACH;FMTTYPE=image/png:https://midwestohio.cisvusa.org/wp-content/uploads/sites/21/2019/08/MidwestOhio_Picture_COL.png
ORGANIZER;CN="CISV Midwest Ohio Junior Branch":MAILTO:midwestohiojb@gmail.com
END:VEVENT
BEGIN:VEVENT
DTSTART;TZID=America/New_York:20250106T160000
DTEND;TZID=America/New_York:20250106T210000
DTSTAMP:20260420T224517
CREATED:20241109T163126Z
LAST-MODIFIED:20241109T163126Z
UID:10000039-1736179200-1736197200@midwestohio.cisvusa.org
SUMMARY:Dine to Donate
DESCRIPTION:
URL:https://midwestohio.cisvusa.org/event/dine-to-donate/
LOCATION:Buffalo Wild Wings\, 2313 West Main Street\, Troy\, OH\, 45373\, United States
ATTACH;FMTTYPE=image/png:https://midwestohio.cisvusa.org/wp-content/uploads/sites/21/2024/11/images.png
END:VEVENT
BEGIN:VEVENT
DTSTART;VALUE=DATE:20241221
DTEND;VALUE=DATE:20241222
DTSTAMP:20260420T224517
CREATED:20241109T162030Z
LAST-MODIFIED:20241109T162030Z
UID:10000038-1734739200-1734825599@midwestohio.cisvusa.org
SUMMARY:Summer 2025 Delegate & Leader applications due
DESCRIPTION:
URL:https://midwestohio.cisvusa.org/event/summer-2025-delegate-leader-applications-due/
LOCATION:OH
END:VEVENT
BEGIN:VEVENT
DTSTART;TZID=America/New_York:20241207T143000
DTEND;TZID=America/New_York:20241207T163000
DTSTAMP:20260420T224517
CREATED:20241109T161737Z
LAST-MODIFIED:20241109T171021Z
UID:10000037-1733581800-1733589000@midwestohio.cisvusa.org
SUMMARY:Holidays Around the World
DESCRIPTION:
URL:https://midwestohio.cisvusa.org/event/holidays-around-the-world-2/
LOCATION:Wright Memorial Library\, 1776 Far Hills Avenue\, Oakwood\, OH\, 45419\, United States
ATTACH;FMTTYPE=image/png:https://midwestohio.cisvusa.org/wp-content/uploads/sites/21/2019/08/MidwestOhio_Picture_COL.png
ORGANIZER;CN="CISV Midwest Ohio Junior Branch":MAILTO:midwestohiojb@gmail.com
END:VEVENT
BEGIN:VEVENT
DTSTART;VALUE=DATE:20241203
DTEND;VALUE=DATE:20241204
DTSTAMP:20260420T224517
CREATED:20241109T160315Z
LAST-MODIFIED:20241109T160315Z
UID:10000035-1733184000-1733270399@midwestohio.cisvusa.org
SUMMARY:Giving Tuesday
DESCRIPTION:
URL:https://midwestohio.cisvusa.org/event/giving-tuesday/
LOCATION:OH
ATTACH;FMTTYPE=image/jpeg:https://midwestohio.cisvusa.org/wp-content/uploads/sites/21/2024/11/21ca86b6-189e-394b-1c53-762b66e623f9.jpg
END:VEVENT
BEGIN:VEVENT
DTSTART;TZID=America/New_York:20241110T143000
DTEND;TZID=America/New_York:20241110T163000
DTSTAMP:20260420T224517
CREATED:20241109T161340Z
LAST-MODIFIED:20241109T165522Z
UID:10000036-1731249000-1731256200@midwestohio.cisvusa.org
SUMMARY:Past Delegate Celebration Dinner & Summer 2025 Delegate & Leader Information Meeting
DESCRIPTION:Past Delegate Celebration Dinner & Summer 2025 Delegate & Leader Information Meeting
URL:https://midwestohio.cisvusa.org/event/past-delegate-celebration-dinner-summer-2025-delegate-leader-information-meeting/
LOCATION:Kettering Rec Complex\, 3600 Shroyer Rd\, Kettering\, OH\, 45429\, United States
ATTACH;FMTTYPE=image/png:https://midwestohio.cisvusa.org/wp-content/uploads/sites/21/2019/08/MidwestOhio_Picture_BLK.png
END:VEVENT
BEGIN:VEVENT
DTSTART;TZID=America/New_York:20241104T183000
DTEND;TZID=America/New_York:20241104T200000
DTSTAMP:20260420T224517
CREATED:20241020T231641Z
LAST-MODIFIED:20241020T231908Z
UID:10000032-1730745000-1730750400@midwestohio.cisvusa.org
SUMMARY:November Chapter Meeting
DESCRIPTION:Location: Hayner Annex \n22 North Short St. Troy Ohio\, 45373
URL:https://midwestohio.cisvusa.org/event/november-hapter-meeting/
LOCATION:Troy-Hayner Cultural Center – Cotner-Hayner Annex\, 22 N Short Street\, Troy\, OH\, 45373\, United States
END:VEVENT
BEGIN:VEVENT
DTSTART;TZID=America/New_York:20241104T160000
DTEND;TZID=America/New_York:20241104T200000
DTSTAMP:20260420T224517
CREATED:20241020T232753Z
LAST-MODIFIED:20241020T233513Z
UID:10000034-1730736000-1730750400@midwestohio.cisvusa.org
SUMMARY:Dine to Donate at Panera Bread
DESCRIPTION:Panera Bread \n1920 West Main St Troy Ohio 45373
URL:https://midwestohio.cisvusa.org/event/dine-to-donate-at-panera-bread/
LOCATION:Panera Bread\, 1920 West Main St.\, Troy\, OH\, 45373\, United States
ATTACH;FMTTYPE=image/jpeg:https://midwestohio.cisvusa.org/wp-content/uploads/sites/21/2024/10/panera-bread.jpg
END:VEVENT
BEGIN:VEVENT
DTSTART;TZID=America/New_York:20240506T183000
DTEND;TZID=America/New_York:20240506T200000
DTSTAMP:20260420T224517
CREATED:20231117T023701Z
LAST-MODIFIED:20231117T023701Z
UID:10000030-1715020200-1715025600@midwestohio.cisvusa.org
SUMMARY:Monthly Chapter Meeting
DESCRIPTION:Join us for our monthly chapter meeting. Our Junior Branch will have an educational activity planned that is sure to encourage excellent discussions!
URL:https://midwestohio.cisvusa.org/event/monthly-chapter-meeting-4/2024-05-06/
LOCATION:Troy-Hayner Cultural Center – Cotner-Hayner Annex\, 22 N Short Street\, Troy\, OH\, 45373\, United States
END:VEVENT
BEGIN:VEVENT
DTSTART;TZID=America/New_York:20240401T183000
DTEND;TZID=America/New_York:20240401T200000
DTSTAMP:20260420T224517
CREATED:20231117T023701Z
LAST-MODIFIED:20231117T023701Z
UID:10000029-1711996200-1712001600@midwestohio.cisvusa.org
SUMMARY:Monthly Chapter Meeting
DESCRIPTION:Join us for our monthly chapter meeting. Our Junior Branch will have an educational activity planned that is sure to encourage excellent discussions!
URL:https://midwestohio.cisvusa.org/event/monthly-chapter-meeting-4/2024-04-01/
LOCATION:Troy-Hayner Cultural Center – Cotner-Hayner Annex\, 22 N Short Street\, Troy\, OH\, 45373\, United States
END:VEVENT
BEGIN:VEVENT
DTSTART;TZID=America/New_York:20240304T183000
DTEND;TZID=America/New_York:20240304T200000
DTSTAMP:20260420T224517
CREATED:20231117T023701Z
LAST-MODIFIED:20231117T023701Z
UID:10000028-1709577000-1709582400@midwestohio.cisvusa.org
SUMMARY:Monthly Chapter Meeting
DESCRIPTION:Join us for our monthly chapter meeting. Our Junior Branch will have an educational activity planned that is sure to encourage excellent discussions!
URL:https://midwestohio.cisvusa.org/event/monthly-chapter-meeting-4/2024-03-04/
LOCATION:Troy-Hayner Cultural Center – Cotner-Hayner Annex\, 22 N Short Street\, Troy\, OH\, 45373\, United States
END:VEVENT
BEGIN:VEVENT
DTSTART;TZID=America/New_York:20240218T143000
DTEND;TZID=America/New_York:20240219T170000
DTSTAMP:20260420T224517
CREATED:20240131T014259Z
LAST-MODIFIED:20240131T014450Z
UID:10000031-1708266600-1708362000@midwestohio.cisvusa.org
SUMMARY:Local-Ohio Mini-Camp
DESCRIPTION:Join us as we learn that Ohana Means Family! Registration is open through Friday\, February 2\, 2024 @ 11:59pm. Hurry and register today for this fun-filled mini-camp! \nRegistration and forms
URL:https://midwestohio.cisvusa.org/event/local-ohio-mini-camp/
LOCATION:Camp Kern\, Ohio
ATTACH;FMTTYPE=image/jpeg:https://midwestohio.cisvusa.org/wp-content/uploads/sites/21/2024/01/IMG_20240127_200911-scaled.jpg
END:VEVENT
BEGIN:VEVENT
DTSTART;TZID=America/New_York:20240205T183000
DTEND;TZID=America/New_York:20240205T200000
DTSTAMP:20260420T224517
CREATED:20231117T023701Z
LAST-MODIFIED:20231117T023701Z
UID:10000027-1707157800-1707163200@midwestohio.cisvusa.org
SUMMARY:Monthly Chapter Meeting
DESCRIPTION:Join us for our monthly chapter meeting. Our Junior Branch will have an educational activity planned that is sure to encourage excellent discussions!
URL:https://midwestohio.cisvusa.org/event/monthly-chapter-meeting-4/2024-02-05/
LOCATION:Troy-Hayner Cultural Center – Cotner-Hayner Annex\, 22 N Short Street\, Troy\, OH\, 45373\, United States
END:VEVENT
BEGIN:VEVENT
DTSTART;TZID=America/New_York:20240108T183000
DTEND;TZID=America/New_York:20240108T200000
DTSTAMP:20260420T224517
CREATED:20231117T021350Z
LAST-MODIFIED:20231117T021651Z
UID:10000025-1704738600-1704744000@midwestohio.cisvusa.org
SUMMARY:Monthly Chapter Meeting
DESCRIPTION:Join us for our monthly chapter meeting. Our Junior Branch will have an educational activity planned that is sure to encourage excellent discussions!
URL:https://midwestohio.cisvusa.org/event/monthly-chapter-meeting-3/
LOCATION:Troy-Hayner Cultural Center – Cotner-Hayner Annex\, 22 N Short Street\, Troy\, OH\, 45373\, United States
ORGANIZER;CN="CISV Midwest Ohio Junior Branch":MAILTO:midwestohiojb@gmail.com
END:VEVENT
BEGIN:VEVENT
DTSTART;TZID=America/New_York:20231204T183000
DTEND;TZID=America/New_York:20231204T200000
DTSTAMP:20260420T224517
CREATED:20231117T020848Z
LAST-MODIFIED:20231117T020848Z
UID:10000024-1701714600-1701720000@midwestohio.cisvusa.org
SUMMARY:Monthly Chapter Meeting
DESCRIPTION:We will be having our Holidays Around the World celebration\, where the whole family is invited to share their festive winter traditions! You are all welcome\, but not required\, to bring a dish that your families eat around the holidays to share with everyone.  Also\, each delegation that traveled over the past summer will share the holiday traditions of where they traveled to. We hope to see you there!
URL:https://midwestohio.cisvusa.org/event/monthly-chapter-meeting-2/
LOCATION:Troy-Hayner Cultural Center – Cotner-Hayner Annex\, 22 N Short Street\, Troy\, OH\, 45373\, United States
ORGANIZER;CN="CISV Midwest Ohio Junior Branch":MAILTO:midwestohiojb@gmail.com
END:VEVENT
BEGIN:VEVENT
DTSTART;TZID=America/New_York:20231118T183000
DTEND;TZID=America/New_York:20231118T220000
DTSTAMP:20260420T224517
CREATED:20231117T015349Z
LAST-MODIFIED:20231117T015349Z
UID:10000022-1700332200-1700344800@midwestohio.cisvusa.org
SUMMARY:Junior Branch Movie Night
DESCRIPTION:Join our Junior Branch for a CISV movie night! We will meet at Donato’s in Troy at 6:30pm for dinner (dinner is provided by the Chapter). Then we will walk to Pop-Up @ 4 W. Main (just a few blocks from Donato’s) to watch Disney’s Soul. Feel free to wear comfy clothes and bring any blankets. We’ll also have a popcorn bar for the movie\, so feel free to bring your favorite popcorn topping to share. The cost of this event is FREE. Pick-up will be at 10pm at Pop-Up. We hope to see you there!
URL:https://midwestohio.cisvusa.org/event/junior-branch-movie-night/
LOCATION:pop-up @ 4 W. Main\, 4 W. Main Street\, Troy\, 45373\, United States
ORGANIZER;CN="CISV Midwest Ohio Junior Branch":MAILTO:midwestohiojb@gmail.com
END:VEVENT
BEGIN:VEVENT
DTSTART;TZID=America/New_York:20231118T100000
DTEND;TZID=America/New_York:20231118T120000
DTSTAMP:20260420T224517
CREATED:20231117T015903Z
LAST-MODIFIED:20231117T015903Z
UID:10000023-1700301600-1700308800@midwestohio.cisvusa.org
SUMMARY:Care for Our Community Day
DESCRIPTION:Join us on Saturday\, November 18 at the Lincoln Community Center in Troy for CISV Midwest Ohio’s 2023 Mosaic! This year we are collaborating with Waste-Free Dayton. The project is about sustainability and will include a short presentation\, an activity\, and a litter cleanup in the neighborhood around the Lincoln Center. Join us to learn more about the sustainability movement and help in beautifying our community!
URL:https://midwestohio.cisvusa.org/event/care-for-our-community-day/
LOCATION:Lincoln Community Center\, 110 Ash Street\, Troy\, 45373\, United States
ORGANIZER;CN="CISV Midwest Ohio Junior Branch":MAILTO:midwestohiojb@gmail.com
END:VEVENT
BEGIN:VEVENT
DTSTART;TZID=America/New_York:20230220T100000
DTEND;TZID=America/New_York:20230220T180000
DTSTAMP:20260420T224517
CREATED:20221219T190742Z
LAST-MODIFIED:20230219T005719Z
UID:10000021-1676887200-1676916000@midwestohio.cisvusa.org
SUMMARY:8 Hours of Peace Camp
DESCRIPTION:Is your 9-18 year old a curious\, deep thinker?  Is your student\, an active person\, an athlete\, a dancer\, in band\, student government or theater? Does your student need a differentiating experience for their high school resume? Are you looking for an inclusive group\, to have fun with\, participating in energizing\, and meaningful activities that teach Conflict & Resolution\, Diversity & Inclusion\, Environmental & Economic Sustainability\, and Human Rights?  Find out what our local\, regional\, and international peace programming can look like\, at CISV We are One Tribe. Please join us for 8 Hours of Peace\, a day of CISV activities.  Bring your friends\, or come and make new ones!
URL:https://midwestohio.cisvusa.org/event/12-hours-of-peace-camp/
LOCATION:International Peace Museum\, Dayton\, Ohio
ATTACH;FMTTYPE=image/png:https://midwestohio.cisvusa.org/wp-content/uploads/sites/21/2022/12/8-Hours-of-Peace-Featured-Image.png
END:VEVENT
BEGIN:VEVENT
DTSTART;TZID=America/New_York:20230128T100000
DTEND;TZID=America/New_York:20230129T150000
DTSTAMP:20260420T224517
CREATED:20221217T022618Z
LAST-MODIFIED:20230123T170322Z
UID:10000020-1674900000-1675004400@midwestohio.cisvusa.org
SUMMARY:Winter Mini-Camp
DESCRIPTION:We invite you all (not just those applying for summer programs) to join us as we hold our first mini-camp for the year. Our Junior Branch board members are working hard to plan a mix of educational activities and games. It is sure to be a great time! \n*If you are applying for a summer program (Village\, Youth Meeting\, Step Up\, or Fortnight) as a delegate\, leader\, or staff\, attendance at this mini-camp is mandatory. \n**Anyone applying for a leadership position (staff\, junior staff\, leader\, Junior Counselor\, Fortnight) must plan an activity (roughly 45 minutes to 1 hour long) that they will run with the participants of the mini-camp. The activity should be focused on one or more of our educational content areas and follow the experiential learning cycle (Do\, Reflect\, Generalize\, Apply). The activity will be with youth ages 9-18. If you would like any help or guidance on planning an activity\, please feel free to contact us and we will gladly help you.
URL:https://midwestohio.cisvusa.org/event/winter-mini-camp/
LOCATION:OH
ATTACH;FMTTYPE=application/pdf:https://midwestohio.cisvusa.org/wp-content/uploads/sites/21/2022/12/Winter-Mini-Camp-Icon-2023.pdf
END:VEVENT
BEGIN:VEVENT
DTSTART;TZID=America/New_York:20221219T183000
DTEND;TZID=America/New_York:20221219T200000
DTSTAMP:20260420T224517
CREATED:20221214T183726Z
LAST-MODIFIED:20221214T183827Z
UID:10000019-1671474600-1671480000@midwestohio.cisvusa.org
SUMMARY:Monthly Chapter Meeting
DESCRIPTION:We will be having our Holidays Around the World celebration\, where everyone will be invited to share their festive winter traditions! You are all welcome\, but not required\, to bring a dish that your families eat around the holidays to share with everyone.  Also\, each delegation that traveled over the past summer will share the holiday traditions of where they traveled to. We hope to see you there!
URL:https://midwestohio.cisvusa.org/event/monthly-chapter-meeting/
LOCATION:pop-up @ 4 W. Main\, 4 W. Main Street\, Troy\, 45373\, United States
ATTACH;FMTTYPE=image/png:https://midwestohio.cisvusa.org/wp-content/uploads/sites/21/2022/12/December-Insta-post.png
END:VEVENT
BEGIN:VEVENT
DTSTART;TZID=America/New_York:20200928T180000
DTEND;TZID=America/New_York:20200928T200000
DTSTAMP:20260420T224517
CREATED:20200829T012745Z
LAST-MODIFIED:20200829T013025Z
UID:10000018-1601316000-1601323200@midwestohio.cisvusa.org
SUMMARY:Chapter Meeting and Elections
DESCRIPTION:Welcome! \nMidwest Ohio Chapter it has been a while\, but it is time to jump-start the new year of CISV.  We are hosting the next chapter meeting to resume planning for the next year and continue our educational efforts.  This will be a big year for our chapter\, as we are slated to host a Village in the summer of 2021.  Please note that we are having the meeting outdoors to allow for more social distancing. \nThe JB will meet at the same time and place.  They will also be having elections for the new board. \nPlease  come\, participate\, re-connect with friends and make some new friends. \nSince we didn’t have our spring meeting\, we will be having chapter elections at this meeting.  If you are interested in any of our open positions\, please contact midwestohio@cisvusa.org for more information and to apply. \nTroy Community Park\, Large Shelter\nSeptember 28\, 2020\n6pm-8pm\nPlease wear a mask
URL:https://midwestohio.cisvusa.org/event/chapter-meeting-and-elections/
LOCATION:OH
END:VEVENT
BEGIN:VEVENT
DTSTART;TZID=America/New_York:20200525T183000
DTEND;TZID=America/New_York:20200525T200000
DTSTAMP:20260420T224517
CREATED:20190722T024654Z
LAST-MODIFIED:20200317T205254Z
UID:10000008-1590431400-1590436800@midwestohio.cisvusa.org
SUMMARY:Junior Branch Chapter Meeting via ZOOM
DESCRIPTION:Join us for our CISV Midwest Ohio Junior Branch chapter meetings.   New members are always welcome!
URL:https://midwestohio.cisvusa.org/event/junior-branch-chapter-meeting/2020-05-25/
LOCATION:Join Zoom Meeting https://udayton.zoom.us/j/878681769  Meeting ID: 878 681 769  One tap mobile +16465588656\,\,878681769# US (New York) +13126266799\,\,878681769# US (Chicago)  Dial by your location         +1 646 558 8656 US (New York)         +1 312 626 6799 US (Chicago)         +1 669 900 9128 US (San Jose)         +1 253 215 8782 US         +1 301 715 8592 US         +1 346 248 7799 US (Houston) Meeting ID: 878 681 769 Find your local number: https://udayton.zoom.us/u/adqOuaOz79\, OH\, United States
GEO:40.4172871;-82.907123
END:VEVENT
BEGIN:VEVENT
DTSTART;TZID=America/New_York:20200427T183000
DTEND;TZID=America/New_York:20200427T200000
DTSTAMP:20260420T224517
CREATED:20190722T024654Z
LAST-MODIFIED:20200317T205254Z
UID:10000007-1588012200-1588017600@midwestohio.cisvusa.org
SUMMARY:Junior Branch Chapter Meeting via ZOOM
DESCRIPTION:Join us for our CISV Midwest Ohio Junior Branch chapter meetings.   New members are always welcome!
URL:https://midwestohio.cisvusa.org/event/junior-branch-chapter-meeting/2020-04-27/
LOCATION:Join Zoom Meeting https://udayton.zoom.us/j/878681769  Meeting ID: 878 681 769  One tap mobile +16465588656\,\,878681769# US (New York) +13126266799\,\,878681769# US (Chicago)  Dial by your location         +1 646 558 8656 US (New York)         +1 312 626 6799 US (Chicago)         +1 669 900 9128 US (San Jose)         +1 253 215 8782 US         +1 301 715 8592 US         +1 346 248 7799 US (Houston) Meeting ID: 878 681 769 Find your local number: https://udayton.zoom.us/u/adqOuaOz79\, OH\, United States
GEO:40.4172871;-82.907123
END:VEVENT
BEGIN:VEVENT
DTSTART;TZID=America/New_York:20200327T180000
DTEND;TZID=America/New_York:20200329T130000
DTSTAMP:20260420T224517
CREATED:20200223T171133Z
LAST-MODIFIED:20200312T122823Z
UID:10000017-1585332000-1585486800@midwestohio.cisvusa.org
SUMMARY:Regional Mini-Camp 2020-CANCELLED
DESCRIPTION:THIS EVENT HAS BEEN CANCELLED due to concerns from COVID19 and recommendations by both local\, and state government to limit gatherings and events of large groups. As always\, CISV puts the well being of our community up front. Registration reimbursements will be handled by the hosting chapter\, Michigan City and their Treasurer. Please allow them time to address refunds and they will contact you directly. Thank you for your understanding and patience. \n⭐RMC Circus⭐ (March 27-29\, 2020) \nEpworth Forest Conference Center\, 8531 E Epworth Forest Rd\, North Webster\, IN 46555 \nArrive Friday Around 6-7 PM \nPick up Sunday between 11:30-1 \n  \nWhat is Regional Mini-Camp (RMC)\, you may be wondering? \nRMC is a weekend-long camp for the Midwest Region chapters of CISV USA: Cincinnati\, Columbus\, Detroit\, Michigan City-Lakeshore\, Midwest Ohio\, and Northeast Ohio. (CISV USA has 6 total regions\, with each region hosting a mini-camp annually.) The Local Junior Representatives (LJRs) from each chapter get together and plan RMC each year. This camp is always a great time and an awesome way to meet fellow CISVers from the USA. Each year\, a different chapter in our region hosts RMC. This year\, Michigan City-Lakeshore (Indiana) will be hosting. Because it is a bit of a drive\, those that are attending coordinate a carpool with any chaperones that are also attending\, so please do not worry about how to get your child to RMC; we will help make sure that all who want to attend can attend! \nOkay\, so your child is interested in going and you want to know more and/or register them; here’s what you’ll need to do next. \nCheck out the Pre-Camp for RMC. The link for registration is in the Pre-Camp. But hurry! Registration will close on March 13! \nHere is a quick link for the forms also: RMC Forms If you have questions about which forms are needed\, please do not hesitate to ask! \n***One other request we have this year: please email the chapter once you have registered. This will help us coordinate carpooling and also let us know how many chaperones we will need to send from our chapter. If you are interested in chaperoning\, please also let us know ASAP. \nAny questions about RMC? Please email your local Junior Branch at midwestohiojb@gmail.com. The Junior Branch Board is helping to plan this and will be more able to help answer your questions. You can also contact our Junior Branch Co-Advisors\, Katie Bigelow and Mindy Fick through email: bigelow.miss@gmail.com and mmfick7@gmail.com. \nWe hope to see you there!\nGretchen Stevens & Owen Davis\nMidwest Ohio LJRs
URL:https://midwestohio.cisvusa.org/event/regional-mini-camp-2020/
LOCATION:Epworth Forest Conference Center\, 8531 E Epworth Forest Rd\, North Webster\, IN\, 46555\, United States
ORGANIZER;CN="CISV Midwest Ohio Junior Branch":MAILTO:midwestohiojb@gmail.com
GEO:41.334249;-85.681879
X-APPLE-STRUCTURED-LOCATION;VALUE=URI;X-ADDRESS=Epworth Forest Conference Center 8531 E Epworth Forest Rd North Webster IN 46555 United States;X-APPLE-RADIUS=500;X-TITLE=8531 E Epworth Forest Rd:geo:-85.681879,41.334249
END:VEVENT
BEGIN:VEVENT
DTSTART;TZID=America/New_York:20200323T183000
DTEND;TZID=America/New_York:20200323T200000
DTSTAMP:20260420T224517
CREATED:20190722T024654Z
LAST-MODIFIED:20200317T205254Z
UID:10000006-1584988200-1584993600@midwestohio.cisvusa.org
SUMMARY:Junior Branch Chapter Meeting via ZOOM
DESCRIPTION:Join us for our CISV Midwest Ohio Junior Branch chapter meetings.   New members are always welcome!
URL:https://midwestohio.cisvusa.org/event/junior-branch-chapter-meeting/2020-03-23/
LOCATION:Join Zoom Meeting https://udayton.zoom.us/j/878681769  Meeting ID: 878 681 769  One tap mobile +16465588656\,\,878681769# US (New York) +13126266799\,\,878681769# US (Chicago)  Dial by your location         +1 646 558 8656 US (New York)         +1 312 626 6799 US (Chicago)         +1 669 900 9128 US (San Jose)         +1 253 215 8782 US         +1 301 715 8592 US         +1 346 248 7799 US (Houston) Meeting ID: 878 681 769 Find your local number: https://udayton.zoom.us/u/adqOuaOz79\, OH\, United States
GEO:40.4172871;-82.907123
END:VEVENT
END:VCALENDAR