BEGIN:VCALENDAR
VERSION:2.0
PRODID:-//Midwest Ohio - ECPv6.15.20//NONSGML v1.0//EN
CALSCALE:GREGORIAN
METHOD:PUBLISH
X-WR-CALNAME:Midwest Ohio
X-ORIGINAL-URL:https://midwestohio.cisvusa.org
X-WR-CALDESC:Events for Midwest Ohio
REFRESH-INTERVAL;VALUE=DURATION:PT1H
X-Robots-Tag:noindex
X-PUBLISHED-TTL:PT1H
BEGIN:VTIMEZONE
TZID:America/New_York
BEGIN:DAYLIGHT
TZOFFSETFROM:-0500
TZOFFSETTO:-0400
TZNAME:EDT
DTSTART:20250309T070000
END:DAYLIGHT
BEGIN:STANDARD
TZOFFSETFROM:-0400
TZOFFSETTO:-0500
TZNAME:EST
DTSTART:20251102T060000
END:STANDARD
BEGIN:DAYLIGHT
TZOFFSETFROM:-0500
TZOFFSETTO:-0400
TZNAME:EDT
DTSTART:20260308T070000
END:DAYLIGHT
BEGIN:STANDARD
TZOFFSETFROM:-0400
TZOFFSETTO:-0500
TZNAME:EST
DTSTART:20261101T060000
END:STANDARD
BEGIN:DAYLIGHT
TZOFFSETFROM:-0500
TZOFFSETTO:-0400
TZNAME:EDT
DTSTART:20270314T070000
END:DAYLIGHT
BEGIN:STANDARD
TZOFFSETFROM:-0400
TZOFFSETTO:-0500
TZNAME:EST
DTSTART:20271107T060000
END:STANDARD
END:VTIMEZONE
BEGIN:VEVENT
DTSTART;TZID=America/New_York:20260228T100000
DTEND;TZID=America/New_York:20260301T170000
DTSTAMP:20260422T204749
CREATED:20251108T234421Z
LAST-MODIFIED:20260207T173802Z
UID:10000053-1772272800-1772384400@midwestohio.cisvusa.org
SUMMARY:Local OHIO Mini-Camp
DESCRIPTION:CISV Midwest Ohio Chapter Junior Branch Board members have planned a fun and engaging Local OHIO Mini Camp with activities focused on CISV’s four peace education content areas. All Ohio CISV chapters (Cincinnati\, Columbus\, and Midwest Ohio) are invited to attend.\n\nREGISTER HERE\n\n-CAMP DATES:Saturday\, February 28 – Sunday\, March 1\, 2026.Arrival: 10:00am Saturday.Departure: 5:00pm Sunday.\n\n-CAMP LOCATION/MEETING SPACE:Schiewetz Leadership Training Center6444 Frederick PikeDayton\, OH 45414\n\n-MEALS & SNACKS PROVIDED AT CAMP:Please eat breakfast prior to arrival on Saturday!Saturday Lunch\, 12:00pmSaturday Afternoon Snack\, 3:00pmSaturday Dinner\, 6:00pmSaturday Evening Snack\, 9:00pmSunday Breakfast\, 9:00amSunday Lunch\, 12:00pmSunday Afternoon Snack\, 3:00pmSunday Dinner will not be provided. Plan accordingly.\n\n-COSTS:Youth Campers (youth ages 10+)$115 Early Registration (by 1/31 at 11:55pm).$125 Regular Registration (by 2/14 at 11:55pm).$100 No Shirt Registration (anything after 2/14).\nDay Campers (youth ages 7-9)$30 Early Registration (by 1/31 at 11:55pm)$40 Regular Registration (by 2/14 at 11:55pm)$10 No Shirt Registration (anything after 2/14)\n\n-Chaperones$25 Regular Registration (by 2/14 at 11:55pm)$1 No Shirt Registration (use promo code to waive fee)\n***DUE TO PRINTING LEAD TIMES\, REGISTRATIONS AFTER SATURDAY\, FEBRUARY 14TH WILL NOT RECEIVE A T-SHIRT***\n\n-ITEMS TO BRING:Reusable drinking vessel (sustainability is a must!)Bed linens (pillow\, sheets\, blanket\, and/or sleeping bag)Toiletries/Shower Supplies (deodorant\, tootbrush\, toothpaste\, mouthwash\, deodorant\, shampoo\, conditioner\, detangler\, brush\, comb\, hair goop\, deodorant\, bath wash\, towel\, wash cloth\, vision care\, fem care\, dental care\, deodorant…you get the picture!)Clean change of clothesSnuggly pajamasWinterwear (parka\, jacket\, coat\, hat\, gloves\, scarf…we WILL be outside\, so pack accordingly!)FriendsOpen mind\n\n-WHAT NOT TO BRING:Bad attitudeCell phone\, smartwatch\, tablet\, etc. (these will be collected by the chaperones to allow undistracted interactions with each other)
URL:https://midwestohio.cisvusa.org/event/local-ohio-mini-camp-3-2/
LOCATION:Schiewetz Leadership Training Center\, 6444 Frederick Pike\, Dayton\, OH\, 45414\, United States
ATTACH;FMTTYPE=image/png:https://midwestohio.cisvusa.org/wp-content/uploads/sites/21/2025/11/Local-OHIO-Mini-Camp-1.png
ORGANIZER;CN="CISV Midwest Ohio Junior Branch":MAILTO:midwestohiojb@gmail.com
END:VEVENT
END:VCALENDAR