BEGIN:VCALENDAR
VERSION:2.0
PRODID:-//Midwest Ohio - ECPv6.15.20//NONSGML v1.0//EN
CALSCALE:GREGORIAN
METHOD:PUBLISH
X-WR-CALNAME:Midwest Ohio
X-ORIGINAL-URL:https://midwestohio.cisvusa.org
X-WR-CALDESC:Events for Midwest Ohio
REFRESH-INTERVAL;VALUE=DURATION:PT1H
X-Robots-Tag:noindex
X-PUBLISHED-TTL:PT1H
BEGIN:VTIMEZONE
TZID:America/New_York
BEGIN:DAYLIGHT
TZOFFSETFROM:-0500
TZOFFSETTO:-0400
TZNAME:EDT
DTSTART:20190310T070000
END:DAYLIGHT
BEGIN:STANDARD
TZOFFSETFROM:-0400
TZOFFSETTO:-0500
TZNAME:EST
DTSTART:20191103T060000
END:STANDARD
BEGIN:DAYLIGHT
TZOFFSETFROM:-0500
TZOFFSETTO:-0400
TZNAME:EDT
DTSTART:20200308T070000
END:DAYLIGHT
BEGIN:STANDARD
TZOFFSETFROM:-0400
TZOFFSETTO:-0500
TZNAME:EST
DTSTART:20201101T060000
END:STANDARD
BEGIN:DAYLIGHT
TZOFFSETFROM:-0500
TZOFFSETTO:-0400
TZNAME:EDT
DTSTART:20210314T070000
END:DAYLIGHT
BEGIN:STANDARD
TZOFFSETFROM:-0400
TZOFFSETTO:-0500
TZNAME:EST
DTSTART:20211107T060000
END:STANDARD
END:VTIMEZONE
BEGIN:VEVENT
DTSTART;TZID=America/New_York:20200327T180000
DTEND;TZID=America/New_York:20200329T130000
DTSTAMP:20260421T023751
CREATED:20200223T171133Z
LAST-MODIFIED:20200312T122823Z
UID:10000017-1585332000-1585486800@midwestohio.cisvusa.org
SUMMARY:Regional Mini-Camp 2020-CANCELLED
DESCRIPTION:THIS EVENT HAS BEEN CANCELLED due to concerns from COVID19 and recommendations by both local\, and state government to limit gatherings and events of large groups. As always\, CISV puts the well being of our community up front. Registration reimbursements will be handled by the hosting chapter\, Michigan City and their Treasurer. Please allow them time to address refunds and they will contact you directly. Thank you for your understanding and patience. \n⭐RMC Circus⭐ (March 27-29\, 2020) \nEpworth Forest Conference Center\, 8531 E Epworth Forest Rd\, North Webster\, IN 46555 \nArrive Friday Around 6-7 PM \nPick up Sunday between 11:30-1 \n  \nWhat is Regional Mini-Camp (RMC)\, you may be wondering? \nRMC is a weekend-long camp for the Midwest Region chapters of CISV USA: Cincinnati\, Columbus\, Detroit\, Michigan City-Lakeshore\, Midwest Ohio\, and Northeast Ohio. (CISV USA has 6 total regions\, with each region hosting a mini-camp annually.) The Local Junior Representatives (LJRs) from each chapter get together and plan RMC each year. This camp is always a great time and an awesome way to meet fellow CISVers from the USA. Each year\, a different chapter in our region hosts RMC. This year\, Michigan City-Lakeshore (Indiana) will be hosting. Because it is a bit of a drive\, those that are attending coordinate a carpool with any chaperones that are also attending\, so please do not worry about how to get your child to RMC; we will help make sure that all who want to attend can attend! \nOkay\, so your child is interested in going and you want to know more and/or register them; here’s what you’ll need to do next. \nCheck out the Pre-Camp for RMC. The link for registration is in the Pre-Camp. But hurry! Registration will close on March 13! \nHere is a quick link for the forms also: RMC Forms If you have questions about which forms are needed\, please do not hesitate to ask! \n***One other request we have this year: please email the chapter once you have registered. This will help us coordinate carpooling and also let us know how many chaperones we will need to send from our chapter. If you are interested in chaperoning\, please also let us know ASAP. \nAny questions about RMC? Please email your local Junior Branch at midwestohiojb@gmail.com. The Junior Branch Board is helping to plan this and will be more able to help answer your questions. You can also contact our Junior Branch Co-Advisors\, Katie Bigelow and Mindy Fick through email: bigelow.miss@gmail.com and mmfick7@gmail.com. \nWe hope to see you there!\nGretchen Stevens & Owen Davis\nMidwest Ohio LJRs
URL:https://midwestohio.cisvusa.org/event/regional-mini-camp-2020/
LOCATION:Epworth Forest Conference Center\, 8531 E Epworth Forest Rd\, North Webster\, IN\, 46555\, United States
ORGANIZER;CN="CISV Midwest Ohio Junior Branch":MAILTO:midwestohiojb@gmail.com
GEO:41.334249;-85.681879
X-APPLE-STRUCTURED-LOCATION;VALUE=URI;X-ADDRESS=Epworth Forest Conference Center 8531 E Epworth Forest Rd North Webster IN 46555 United States;X-APPLE-RADIUS=500;X-TITLE=8531 E Epworth Forest Rd:geo:-85.681879,41.334249
END:VEVENT
END:VCALENDAR