BEGIN:VCALENDAR
VERSION:2.0
PRODID:-//Midwest Ohio - ECPv6.15.20//NONSGML v1.0//EN
CALSCALE:GREGORIAN
METHOD:PUBLISH
X-WR-CALNAME:Midwest Ohio
X-ORIGINAL-URL:https://midwestohio.cisvusa.org
X-WR-CALDESC:Events for Midwest Ohio
REFRESH-INTERVAL;VALUE=DURATION:PT1H
X-Robots-Tag:noindex
X-PUBLISHED-TTL:PT1H
BEGIN:VTIMEZONE
TZID:America/New_York
BEGIN:DAYLIGHT
TZOFFSETFROM:-0500
TZOFFSETTO:-0400
TZNAME:EDT
DTSTART:20220313T070000
END:DAYLIGHT
BEGIN:STANDARD
TZOFFSETFROM:-0400
TZOFFSETTO:-0500
TZNAME:EST
DTSTART:20221106T060000
END:STANDARD
BEGIN:DAYLIGHT
TZOFFSETFROM:-0500
TZOFFSETTO:-0400
TZNAME:EDT
DTSTART:20230312T070000
END:DAYLIGHT
BEGIN:STANDARD
TZOFFSETFROM:-0400
TZOFFSETTO:-0500
TZNAME:EST
DTSTART:20231105T060000
END:STANDARD
BEGIN:DAYLIGHT
TZOFFSETFROM:-0500
TZOFFSETTO:-0400
TZNAME:EDT
DTSTART:20240310T070000
END:DAYLIGHT
BEGIN:STANDARD
TZOFFSETFROM:-0400
TZOFFSETTO:-0500
TZNAME:EST
DTSTART:20241103T060000
END:STANDARD
END:VTIMEZONE
BEGIN:VEVENT
DTSTART;TZID=America/New_York:20230220T100000
DTEND;TZID=America/New_York:20230220T180000
DTSTAMP:20260419T160938
CREATED:20221219T190742Z
LAST-MODIFIED:20230219T005719Z
UID:10000021-1676887200-1676916000@midwestohio.cisvusa.org
SUMMARY:8 Hours of Peace Camp
DESCRIPTION:Is your 9-18 year old a curious\, deep thinker?  Is your student\, an active person\, an athlete\, a dancer\, in band\, student government or theater? Does your student need a differentiating experience for their high school resume? Are you looking for an inclusive group\, to have fun with\, participating in energizing\, and meaningful activities that teach Conflict & Resolution\, Diversity & Inclusion\, Environmental & Economic Sustainability\, and Human Rights?  Find out what our local\, regional\, and international peace programming can look like\, at CISV We are One Tribe. Please join us for 8 Hours of Peace\, a day of CISV activities.  Bring your friends\, or come and make new ones!
URL:https://midwestohio.cisvusa.org/event/12-hours-of-peace-camp/
LOCATION:International Peace Museum\, Dayton\, Ohio
ATTACH;FMTTYPE=image/png:https://midwestohio.cisvusa.org/wp-content/uploads/sites/21/2022/12/8-Hours-of-Peace-Featured-Image.png
END:VEVENT
END:VCALENDAR