BEGIN:VCALENDAR
VERSION:2.0
PRODID:-//Midwest Ohio - ECPv6.15.20//NONSGML v1.0//EN
CALSCALE:GREGORIAN
METHOD:PUBLISH
X-WR-CALNAME:Midwest Ohio
X-ORIGINAL-URL:https://midwestohio.cisvusa.org
X-WR-CALDESC:Events for Midwest Ohio
REFRESH-INTERVAL;VALUE=DURATION:PT1H
X-Robots-Tag:noindex
X-PUBLISHED-TTL:PT1H
BEGIN:VTIMEZONE
TZID:America/New_York
BEGIN:DAYLIGHT
TZOFFSETFROM:-0500
TZOFFSETTO:-0400
TZNAME:EDT
DTSTART:20190310T070000
END:DAYLIGHT
BEGIN:STANDARD
TZOFFSETFROM:-0400
TZOFFSETTO:-0500
TZNAME:EST
DTSTART:20191103T060000
END:STANDARD
BEGIN:DAYLIGHT
TZOFFSETFROM:-0500
TZOFFSETTO:-0400
TZNAME:EDT
DTSTART:20200308T070000
END:DAYLIGHT
BEGIN:STANDARD
TZOFFSETFROM:-0400
TZOFFSETTO:-0500
TZNAME:EST
DTSTART:20201101T060000
END:STANDARD
BEGIN:DAYLIGHT
TZOFFSETFROM:-0500
TZOFFSETTO:-0400
TZNAME:EDT
DTSTART:20210314T070000
END:DAYLIGHT
BEGIN:STANDARD
TZOFFSETFROM:-0400
TZOFFSETTO:-0500
TZNAME:EST
DTSTART:20211107T060000
END:STANDARD
END:VTIMEZONE
BEGIN:VEVENT
DTSTART;TZID=America/New_York:20200214T183000
DTEND;TZID=America/New_York:20200216T120000
DTSTAMP:20260421T124230
CREATED:20200121T164531Z
LAST-MODIFIED:20200204T040525Z
UID:10000016-1581705000-1581854400@midwestohio.cisvusa.org
SUMMARY:Local Mini-Camp
DESCRIPTION:It’s that time of year\, Local Mini-Camp is here! Your local Junior Branch Board is excited to announce that this year’s mini-camp has been extended to 2 nights of CISV fun!!! You will find a link to registration below. Please be sure to register by Saturday\, February 8th! (Register with a new-to-CISV friend\, and we will give you both $25 off!) \nOur Local Mini-Camp is a great way to introduce new families to CISV and to really let them know what we are all about. LMC is structured just like a Village or other CISV camp\, with educational activities focusing on our four content areas (sustainable development\, conflict & resolution\, diversity\, and human rights)\, along with some classic\, fun CISV games! \nIf you have any questions\, please ask a member of the JB Board\, or email the JB at midwestohiojb@gmail.com \nWe hope to see you there! \nRegister here: LMC Registration
URL:https://midwestohio.cisvusa.org/event/local-mini-camp/
LOCATION:Ludlow Falls Camp\, 2535 St. Rt. 48\, Ludlow Falls\, OH\, 45339\, United States
ATTACH;FMTTYPE=image/png:https://midwestohio.cisvusa.org/wp-content/uploads/sites/21/2020/01/space_race_mini-camp-2020-black.png
ORGANIZER;CN="CISV Midwest Ohio Junior Branch":MAILTO:midwestohiojb@gmail.com
GEO:42.1600936;-72.475919
X-APPLE-STRUCTURED-LOCATION;VALUE=URI;X-ADDRESS=Ludlow Falls Camp 2535 St. Rt. 48 Ludlow Falls OH 45339 United States;X-APPLE-RADIUS=500;X-TITLE=2535 St. Rt. 48:geo:-72.475919,42.1600936
END:VEVENT
BEGIN:VEVENT
DTSTART;TZID=America/New_York:20200118T140000
DTEND;TZID=America/New_York:20200119T120000
DTSTAMP:20260421T124230
CREATED:20200111T202840Z
LAST-MODIFIED:20200118T185524Z
UID:10000013-1579356000-1579435200@midwestohio.cisvusa.org
SUMMARY:Selection 2020 Overnight
DESCRIPTION:All applicants for Selection in 2020 programs are required to attend our Selection Overnight at Ludlow Falls Camp. The camp starts at 2:00 PM and runs until noon on Sunday. Each camper should bring a pillow\, sleeping bag and a snack to share with others. Dinner and a snack will be provided on Saturday\, and breakfast will  be provided on Sunday. Be sure to have all legal forms completed ( the Youth Legal Form) available on our website and on CISV Central. There will also be copies on site to fill out if forgotten. This form does require proof of insurance and 2020 Chapter dues to be paid in full. There will also be a brief meeting for parents at 2PM to discuss the 2020 programs\, and to answer any questions.
URL:https://midwestohio.cisvusa.org/event/selection-2020-overnight/
LOCATION:Ludlow Falls Camp\, 2535 St. Rt. 48\, Ludlow Falls\, OH\, 45339\, United States
ATTACH;FMTTYPE=image/jpeg:https://midwestohio.cisvusa.org/wp-content/uploads/sites/21/2020/01/passport.jpg
GEO:42.1600936;-72.475919
X-APPLE-STRUCTURED-LOCATION;VALUE=URI;X-ADDRESS=Ludlow Falls Camp 2535 St. Rt. 48 Ludlow Falls OH 45339 United States;X-APPLE-RADIUS=500;X-TITLE=2535 St. Rt. 48:geo:-72.475919,42.1600936
END:VEVENT
END:VCALENDAR