BEGIN:VCALENDAR
VERSION:2.0
PRODID:-//Midwest Ohio - ECPv6.15.20//NONSGML v1.0//EN
CALSCALE:GREGORIAN
METHOD:PUBLISH
X-WR-CALNAME:Midwest Ohio
X-ORIGINAL-URL:https://midwestohio.cisvusa.org
X-WR-CALDESC:Events for Midwest Ohio
REFRESH-INTERVAL;VALUE=DURATION:PT1H
X-Robots-Tag:noindex
X-PUBLISHED-TTL:PT1H
BEGIN:VTIMEZONE
TZID:America/New_York
BEGIN:DAYLIGHT
TZOFFSETFROM:-0500
TZOFFSETTO:-0400
TZNAME:EDT
DTSTART:20180311T070000
END:DAYLIGHT
BEGIN:STANDARD
TZOFFSETFROM:-0400
TZOFFSETTO:-0500
TZNAME:EST
DTSTART:20181104T060000
END:STANDARD
BEGIN:DAYLIGHT
TZOFFSETFROM:-0500
TZOFFSETTO:-0400
TZNAME:EDT
DTSTART:20190310T070000
END:DAYLIGHT
BEGIN:STANDARD
TZOFFSETFROM:-0400
TZOFFSETTO:-0500
TZNAME:EST
DTSTART:20191103T060000
END:STANDARD
BEGIN:DAYLIGHT
TZOFFSETFROM:-0500
TZOFFSETTO:-0400
TZNAME:EDT
DTSTART:20200308T070000
END:DAYLIGHT
BEGIN:STANDARD
TZOFFSETFROM:-0400
TZOFFSETTO:-0500
TZNAME:EST
DTSTART:20201101T060000
END:STANDARD
END:VTIMEZONE
BEGIN:VEVENT
DTSTART;TZID=America/New_York:20190922T130000
DTEND;TZID=America/New_York:20190922T160000
DTSTAMP:20260420T052211
CREATED:20190916T053510Z
LAST-MODIFIED:20190916T053511Z
UID:10000010-1569157200-1569168000@midwestohio.cisvusa.org
SUMMARY:Peace One Day
DESCRIPTION:Who will YOU make Peace with? \nJoin us on Sunday\, September 22nd for Peace One Day.  Meet at Troy City Park Shelter #5 (1:00pm-4:00pm) \nWe will be making sidewalk chalk art in local neighborhoods along with placing “peace rocks.”  Bring the whole family and some chalk.  Join us as we work to inspire a more just and peaceful world!
URL:https://midwestohio.cisvusa.org/event/peace-one-day/
LOCATION:Troy City Park
ATTACH;FMTTYPE=image/png:https://midwestohio.cisvusa.org/wp-content/uploads/sites/21/2019/09/Peace-One-Day-2019.png
END:VEVENT
END:VCALENDAR